BEGIN:VCALENDAR
VERSION:2.0
PRODID:-//Method Gym - ECPv6.15.14//NONSGML v1.0//EN
CALSCALE:GREGORIAN
METHOD:PUBLISH
X-WR-CALNAME:Method Gym
X-ORIGINAL-URL:https://methodgym.com
X-WR-CALDESC:Events for Method Gym
REFRESH-INTERVAL;VALUE=DURATION:PT1H
X-Robots-Tag:noindex
X-PUBLISHED-TTL:PT1H
BEGIN:VTIMEZONE
TZID:America/New_York
BEGIN:DAYLIGHT
TZOFFSETFROM:-0500
TZOFFSETTO:-0400
TZNAME:EDT
DTSTART:20230312T070000
END:DAYLIGHT
BEGIN:STANDARD
TZOFFSETFROM:-0400
TZOFFSETTO:-0500
TZNAME:EST
DTSTART:20231105T060000
END:STANDARD
BEGIN:DAYLIGHT
TZOFFSETFROM:-0500
TZOFFSETTO:-0400
TZNAME:EDT
DTSTART:20240310T070000
END:DAYLIGHT
BEGIN:STANDARD
TZOFFSETFROM:-0400
TZOFFSETTO:-0500
TZNAME:EST
DTSTART:20241103T060000
END:STANDARD
BEGIN:DAYLIGHT
TZOFFSETFROM:-0500
TZOFFSETTO:-0400
TZNAME:EDT
DTSTART:20250309T070000
END:DAYLIGHT
BEGIN:STANDARD
TZOFFSETFROM:-0400
TZOFFSETTO:-0500
TZNAME:EST
DTSTART:20251102T060000
END:STANDARD
BEGIN:DAYLIGHT
TZOFFSETFROM:-0500
TZOFFSETTO:-0400
TZNAME:EDT
DTSTART:20260308T070000
END:DAYLIGHT
BEGIN:STANDARD
TZOFFSETFROM:-0400
TZOFFSETTO:-0500
TZNAME:EST
DTSTART:20261101T060000
END:STANDARD
END:VTIMEZONE
BEGIN:VEVENT
DTSTART;TZID=America/New_York:20250628T130000
DTEND;TZID=America/New_York:20250628T150000
DTSTAMP:20260420T075345
CREATED:20250613T114732Z
LAST-MODIFIED:20251113T102103Z
UID:10002551-1751115600-1751122800@methodgym.com
SUMMARY:Deadlift Party
DESCRIPTION:DEADLIFT PARTY\nSaturday\, June 28 | 1–3 PM\nMethod Gym California \nGet ready to lift\, cheer\, and celebrate at our Deadlift Party in California! Whether you’re pulling PRs or just here for the party\, this is the ultimate Method community event. \nHere’s What to Expect: \n\nDeadlift Competition with 1 Male & 1 Female Winner\nPrize Baskets for Top Lifters\nDelicious Food & Refreshments\nGreat Music & Fun Vibes\nAll About Community\n\nBring your energy and your best deadlift—let’s see what you’ve got!
URL:https://methodgym.com/event/deadlift-party/
LOCATION:California\, 22599 MacArthur Blvd.\, #136B\, California\, MD\, MD\, 20619\, United States
CATEGORIES:California,Leonardtown
ATTACH;FMTTYPE=image/jpeg:https://methodgym.com/wp-content/uploads/2025/06/25-06-16_MG_DeadliftParty_Social_v1_2-1.jpg
ORGANIZER;CN="Method Gym":MAILTO:memberservices@methodgym.com
END:VEVENT
BEGIN:VEVENT
DTSTART;TZID=America/New_York:20250621T090000
DTEND;TZID=America/New_York:20250621T170000
DTSTAMP:20260420T075345
CREATED:20250611T164606Z
LAST-MODIFIED:20251113T102108Z
UID:10002548-1750496400-1750525200@methodgym.com
SUMMARY:California: June Open House
DESCRIPTION:OPEN HOUSE\nSATURDAY\, JUNE 21 | 9AM – 5PM\nBring your friends and family for a day\nof fitness\, fun\, and special offers! \nOpen House Details: \n\nExclusive membership specials\nFree guest day – invite your friends and family!\nMeet our team and tour the gym\n\nExperience the variety of classes offered: \n\nShift – 9am\nSpinning – 9am\nLes Mills BODYPUMP – 10am
URL:https://methodgym.com/event/california-june-open-house/
LOCATION:California\, 22599 MacArthur Blvd.\, #136B\, California\, MD\, MD\, 20619\, United States
CATEGORIES:California
ATTACH;FMTTYPE=image/jpeg:https://methodgym.com/wp-content/uploads/2025/06/June-Open-House_1-copy-108.jpg
ORGANIZER;CN="Method Gym":MAILTO:memberservices@methodgym.com
END:VEVENT
BEGIN:VEVENT
DTSTART;TZID=America/New_York:20250615T060000
DTEND;TZID=America/New_York:20250615T180000
DTSTAMP:20260420T075345
CREATED:20250604T165124Z
LAST-MODIFIED:20251113T102113Z
UID:10002542-1749967200-1750010400@methodgym.com
SUMMARY:8 Weeks Small Group Personal Training Program
DESCRIPTION:8-Week Small Group Personal Training Program\nBegins Week of June 15\n\nReady to take your training to the next level—with the accountability and energy of a small group? \n\n\nJoin Method Gym’s 8-Week Small Group Personal Training Program and experience focused\, personalized coaching in a supportive group of just 4 participants. Whether you’re jumpstarting your fitness journey or breaking through a plateau\, this program is designed to help you build strength\, boost endurance\, and stay consistent. \n\nWhat’s Included:\n\nSmall group training (4 people max)\nWeekly programming customized to your goals\nInBody composition analysis to track progress\n60-minute training sessions\, 1–2x per week\nFlexible training times: Early morning\, lunch\, and evening\nAvailable at Leonardtown & California\, MD locations\n\nProgram Options:\n\n1x/week (8 sessions) – $199\n2x/week (16 sessions) – $399\n\nGet ready to train smarter\, get stronger\, and feel your best this summer.
URL:https://methodgym.com/event/8-weeks-small-group-personal-training-program/
LOCATION:California\, 22599 MacArthur Blvd.\, #136B\, California\, MD\, MD\, 20619\, United States
CATEGORIES:California,Leonardtown
ATTACH;FMTTYPE=image/jpeg:https://methodgym.com/wp-content/uploads/2025/06/June-Event-Graphics_California-Events-02.jpg
ORGANIZER;CN="Method Gym":MAILTO:memberservices@methodgym.com
END:VEVENT
BEGIN:VEVENT
DTSTART;TZID=America/New_York:20250517T090000
DTEND;TZID=America/New_York:20250517T170000
DTSTAMP:20260420T075345
CREATED:20250506T121256Z
LAST-MODIFIED:20251113T102145Z
UID:10002538-1747472400-1747501200@methodgym.com
SUMMARY:All Locations: Open House May 2025
DESCRIPTION:Saturday\, May 17 | 9am – 5pm\n\nBring your friends and family for a day of fitness\, fun\, and special offers! \nOpen House Details: \n\n\nExclusive membership specials\nFree guest day – invite your friends and family!\nMeet our team and tour the gym\nExperience the variety of classes offered
URL:https://methodgym.com/event/all-locations-open-house-may-2025/
LOCATION:Leonardtown\, 40845 Merchants Ln.\, #200\, Leonardtown\, MD\, 20650\, United States
CATEGORIES:California,Dale City,Leonardtown,Waldorf
ATTACH;FMTTYPE=image/jpeg:https://methodgym.com/wp-content/uploads/2025/05/Social-Graphic-2-3.jpg
ORGANIZER;CN="Method Gym":MAILTO:memberservices@methodgym.com
END:VEVENT
BEGIN:VEVENT
DTSTART;TZID=America/New_York:20250507T100000
DTEND;TZID=America/New_York:20250507T110000
DTSTAMP:20260420T075345
CREATED:20250430T104618Z
LAST-MODIFIED:20251113T102139Z
UID:10002534-1746612000-1746615600@methodgym.com
SUMMARY:California: Les Mills BodyPump Launch
DESCRIPTION:Les Mills BODYPUMP Launch\n\nWEDNESDAY\, MAY 7 | 10 AM \nThe original barbell workout for anyone looking to get lean\, toned\, and strong — FAST. \n\nFREE for EVERYONE!\nMembers\, non-members\, family\, friends — the more\, the merrier!\n\nHigh-energy music & electric vibes\nFree Snacks\nRaffle Prizes\n\nCome for the workout. Stay for the fun.
URL:https://methodgym.com/event/california-les-mills-bodypump-launch/
LOCATION:California\, 22599 MacArthur Blvd.\, #136B\, California\, MD\, MD\, 20619\, United States
CATEGORIES:California
ATTACH;FMTTYPE=image/jpeg:https://methodgym.com/wp-content/uploads/2025/04/Social-Graphics-1-06.jpg
ORGANIZER;CN="Method Gym":MAILTO:memberservices@methodgym.com
END:VEVENT
BEGIN:VEVENT
DTSTART;TZID=America/New_York:20250506T163000
DTEND;TZID=America/New_York:20250506T163000
DTSTAMP:20260420T075345
CREATED:20250430T104735Z
LAST-MODIFIED:20251113T102239Z
UID:10002535-1746549000-1746549000@methodgym.com
SUMMARY:California: Next-level workout with STEP
DESCRIPTION:STEP\nTUES\, MAY 6 | 4:30PMWhat to expect:\n\nHigh-intensity functional training\nFull-body interval burn\nDynamic movements using the step\n\nDon’t miss this next-level workout!
URL:https://methodgym.com/event/california-les-mills-bodystep-launch/
LOCATION:California\, 22599 MacArthur Blvd.\, #136B\, California\, MD\, MD\, 20619\, United States
CATEGORIES:California
ATTACH;FMTTYPE=image/jpeg:https://methodgym.com/wp-content/uploads/2025/04/Social-Graphic-1-6.jpg
ORGANIZER;CN="Method Gym":MAILTO:memberservices@methodgym.com
END:VEVENT
BEGIN:VEVENT
DTSTART;VALUE=DATE:20250412
DTEND;VALUE=DATE:20250511
DTSTAMP:20260420T075345
CREATED:20250402T214334Z
LAST-MODIFIED:20251113T102253Z
UID:10002528-1744416000-1746921599@methodgym.com
SUMMARY:Spring into Fitness Bingo!
DESCRIPTION:Locations: California\, Leonardtown\nEvent Dates: April 12 – May 10 \nSpring into Fitness Bingo! \n\nSpring into action and challenge yourself with Spring into Fitness Bingo at Method Gym! This exciting event is the perfect way to mix up your workouts\, stay motivated\, and win BIG prizes! \n\n\nEvent Dates: April 12 – May 10 \n\nHow to Play:\n\nGrab a Bingo card from the front desk.\n Attend group fitness classes—your instructor will mark the class format on your card.\n Complete a Bingo (5 in a row: vertical\, horizontal\, or diagonal) to earn a raffle ticket.\n Keep playing—every Bingo you complete gets you another raffle ticket!\n\nWin Amazing Prizes!\n\nMember Prize: Win 2 months of FREE membership + gym apparel!\nGuest Prize: Win 1 month of FREE membership + gym apparel!\n\nThe more classes you take\, the better your odds of winning! Who will be the Bingo Champion?\n\nSee front desk for details!
URL:https://methodgym.com/event/spring-into-fitness-bingo/
LOCATION:California\, 22599 MacArthur Blvd.\, #136B\, California\, MD\, MD\, 20619\, United States
CATEGORIES:California,Leonardtown
ATTACH;FMTTYPE=image/jpeg:https://methodgym.com/wp-content/uploads/2025/04/Social-Graphic_1-copy-91.jpg
ORGANIZER;CN="Method Gym":MAILTO:memberservices@methodgym.com
END:VEVENT
BEGIN:VEVENT
DTSTART;TZID=America/New_York:20250315T100000
DTEND;TZID=America/New_York:20250315T110000
DTSTAMP:20260420T075345
CREATED:20250307T161705Z
LAST-MODIFIED:20251113T102305Z
UID:10002525-1742032800-1742036400@methodgym.com
SUMMARY:California: New Class Launch: Les Mills Strength Development
DESCRIPTION:NEW CLASS LAUNCH: LES MILLS STRENGTH DEVELOPMENT\nSaturday\, March 15 | 10 AM\n\nGet ready to level up your strength training with Les Mills Strength Development! This cutting-edge workout is designed to build strength\, improve technique\, and push your limits—all in a dynamic\, results-driven format. \nThis launch happens during our Open House (9 AM – 5 PM)\, so both members and non-members are welcome! Bring your friends and family for a day of fitness\, fun\, and exclusive deals. \nWhy You Don’t Want to Miss This: \n\n\nBe among the FIRST to experience this brand-new Les Mills class\nBuild power\, endurance\, and confidence with expert coaching\nOpen to everyone – no membership required!\n\n\nPlus\, enjoy all the Open House perks: \n\nExclusive membership specials\nFree guest day – invite your crew!\nGym tours & meet the team\nTry other exciting classes
URL:https://methodgym.com/event/new-class-launch-les-mills-strength-development/
LOCATION:California\, 22599 MacArthur Blvd.\, #136B\, California\, MD\, MD\, 20619\, United States
CATEGORIES:California
ATTACH;FMTTYPE=image/jpeg:https://methodgym.com/wp-content/uploads/2025/03/Social-Graphic-29-e1741364158258.jpg
ORGANIZER;CN="Method Gym":MAILTO:memberservices@methodgym.com
END:VEVENT
BEGIN:VEVENT
DTSTART;TZID=America/New_York:20250215T090000
DTEND;TZID=America/New_York:20250215T170000
DTSTAMP:20260420T075345
CREATED:20250206T235722Z
LAST-MODIFIED:20251113T102337Z
UID:10002521-1739610000-1739638800@methodgym.com
SUMMARY:All Locations: February 2025 Open House
DESCRIPTION:Saturday\, February 15 | 9am – 5pm \nBring your friends and family for a day of fitness\, fun\, and special offers! \nOpen House Details: \n\nExclusive membership specials\nFree guest day – invite your friends and family!\nMeet our team and tour the gym\nExperience the variety of classes offered
URL:https://methodgym.com/event/all-locations-february-2025-open-house/
LOCATION:Leonardtown\, 40845 Merchants Ln.\, #200\, Leonardtown\, MD\, 20650\, United States
CATEGORIES:California,Dale City,Leonardtown,Waldorf
ATTACH;FMTTYPE=image/jpeg:https://methodgym.com/wp-content/uploads/2025/02/Open_House_all_locations.jpg
ORGANIZER;CN="Method Gym":MAILTO:memberservices@methodgym.com
END:VEVENT
BEGIN:VEVENT
DTSTART;TZID=America/New_York:20250215T090000
DTEND;TZID=America/New_York:20250215T100000
DTSTAMP:20260420T075345
CREATED:20250213T223615Z
LAST-MODIFIED:20251113T102346Z
UID:10002522-1739610000-1739613600@methodgym.com
SUMMARY:California: Ro & Rise with Roland
DESCRIPTION:Saturday\, Feb 15 | 9 -10AM \n\n\nGet ready to elevate your workout with Ro & Rise\, a high-intensity functional training class using the step in ways you’ve never imagined! \n\nIn R1ZE\, the step transforms into a jump box\, exercise bench\, and obstacle—pushing your strength\, endurance\, and agility to new heights. Expect multi-dimensional functional movements combined with full-body interval training for an explosive workout.\nWhat to expect:\n\nHigh-intensity functional training\nFull-body interval burn\nDynamic movements using the step\n\nDon’t miss this next-level workout with Roland!
URL:https://methodgym.com/event/california-ro-rise-with-roland/
LOCATION:California\, 22599 MacArthur Blvd.\, #136B\, California\, MD\, MD\, 20619\, United States
CATEGORIES:California
ATTACH;FMTTYPE=image/jpeg:https://methodgym.com/wp-content/uploads/2025/02/Social-Graphic_1-copy-27-e1739486104150.jpg
ORGANIZER;CN="Method Gym":MAILTO:memberservices@methodgym.com
END:VEVENT
BEGIN:VEVENT
DTSTART;TZID=America/New_York:20250214T050000
DTEND;TZID=America/New_York:20250214T230000
DTSTAMP:20260420T075345
CREATED:20250206T184214Z
LAST-MODIFIED:20251113T102418Z
UID:10002520-1739509200-1739574000@methodgym.com
SUMMARY:All Locations: Valentine’s Day: Bring Your Loved Ones for FREE!
DESCRIPTION:Date: Friday\, February 14th \n\nThis Valentine’s Day\, share the Method Gym love! Bring all your loved ones to work out with you for FREE—because fitness is better together.\n\nGuests must be 18+\nFitKids drop-in rates apply ($15) – California and Dale City locations only.\n\n\nNo sign-up needed—just bring your friends and family and let’s get moving!
URL:https://methodgym.com/event/all-locations-valentines-day-bring-your-loved-ones-for-free/
LOCATION:Leonardtown\, 40845 Merchants Ln.\, #200\, Leonardtown\, MD\, 20650\, United States
CATEGORIES:California,Dale City,Leonardtown,Waldorf
ATTACH;FMTTYPE=image/jpeg:https://methodgym.com/wp-content/uploads/2025/02/Social-Graphic-21-e1739203445952.jpg
ORGANIZER;CN="Method Gym":MAILTO:memberservices@methodgym.com
END:VEVENT
BEGIN:VEVENT
DTSTART;TZID=America/New_York:20250111T123000
DTEND;TZID=America/New_York:20250111T123000
DTSTAMP:20260420T075345
CREATED:20250110T085418Z
LAST-MODIFIED:20251113T102426Z
UID:10002223-1736598600-1736598600@methodgym.com
SUMMARY:California: Method Seminar Event
DESCRIPTION:METHOD SEMINAR EVENT:\nThe Importance of Eating 5 Servings of Fruits & Vegetables a Day \nSATURDAY\, JANUARY\, 11 | 12:30PM \nLed by Megan \n\nPersonal Trainer at the Method Gym California location\nMaster of Science in Nutrition Education\, American University\n\nTopics We’ll Cover: \n\nWhy it is important to eat 5 servings a day?\nEat the Rainbow! Why variety matters\nHow Much Do We Actually Need?\nWhat Does a Serving Size Look Like?\nHealthy Snacks: Simple and satisfying ideas\n\nJoin us for this engaging seminar and take the first step toward healthier habits!
URL:https://methodgym.com/event/california-method-seminar-event/
LOCATION:California\, 22599 MacArthur Blvd.\, #136B\, California\, MD\, MD\, 20619\, United States
CATEGORIES:California
ATTACH;FMTTYPE=image/jpeg:https://methodgym.com/wp-content/uploads/2025/01/Seminar-Series-Event-Graphics-e1736520173425.jpg
ORGANIZER;CN="Method Gym":MAILTO:memberservices@methodgym.com
END:VEVENT
BEGIN:VEVENT
DTSTART;TZID=America/New_York:20241228T090000
DTEND;TZID=America/New_York:20241228T170000
DTSTAMP:20260420T075345
CREATED:20241224T165257Z
LAST-MODIFIED:20251113T102433Z
UID:10002218-1735376400-1735405200@methodgym.com
SUMMARY:California: December Open House
DESCRIPTION:Saturday\, December 28 | 9am – 5pm\n\n\nBring your friends and family for a day of fitness\, fun\, and special offers! \nOpen House Details: \n\n\nExclusive membership specials\nFree guest day – invite your friends and family!\nMeet our team and tour the gym\nExperience the variety of classes offered
URL:https://methodgym.com/event/california-december-open-house/
LOCATION:California\, 22599 MacArthur Blvd.\, #136B\, California\, MD\, MD\, 20619\, United States
CATEGORIES:California
ATTACH;FMTTYPE=image/jpeg:https://methodgym.com/wp-content/uploads/2024/12/Social-Graphic_Social-Graphic-copy-e1735059240749.jpg
ORGANIZER;CN="Method Gym":MAILTO:memberservices@methodgym.com
END:VEVENT
BEGIN:VEVENT
DTSTART;TZID=America/New_York:20241128T070000
DTEND;TZID=America/New_York:20241128T160000
DTSTAMP:20260420T075345
CREATED:20241122T184231Z
LAST-MODIFIED:20251113T102440Z
UID:10002204-1732777200-1732809600@methodgym.com
SUMMARY:California: Thanksgiving Day Holiday Hours and Workout
DESCRIPTION:Get ready for a day full of fitness\, fun\, and gratitude! \nThanksgiving Day Hours\nThursday\, Nov 28 | 7:00 am – 4:00 pm\nGet in a holiday workout before the festivities! \nFitKids is not available on Thanksgiving Day. \nTHANKSGIVING TURKEY BURNER | 9AM\nBurn calories before the feast with Gretchen’s Turkey Burner class.\nThis high-energy workout is the perfect way to kick off your holiday\, combining cardio and strength to help you feel amazing before you dive into your Thanksgiving meal. \nAll fitness levels welcome! Let’s sweat\, smile\, and celebrate together.
URL:https://methodgym.com/event/california-thanksgiving-day-holiday-hours-and-workout/
LOCATION:California\, 22599 MacArthur Blvd.\, #136B\, California\, MD\, MD\, 20619\, United States
CATEGORIES:California
ATTACH;FMTTYPE=image/jpeg:https://methodgym.com/wp-content/uploads/2024/11/pumpkins.jpeg
ORGANIZER;CN="Method Gym":MAILTO:memberservices@methodgym.com
END:VEVENT
BEGIN:VEVENT
DTSTART;TZID=America/New_York:20241026T120000
DTEND;TZID=America/New_York:20241026T140000
DTSTAMP:20260420T075345
CREATED:20241011T205239Z
LAST-MODIFIED:20251113T102447Z
UID:10002172-1729944000-1729951200@methodgym.com
SUMMARY:California: Deadlift Party
DESCRIPTION:Date & Time: Saturday\, October 26th | 12:00 PM – 2:00 PM\nLocation: Method Gym California\n\nJoin us for a Halloween-themed Deadlift Party during our October Open House! ???????? Show off your strength and your best costume\, as we lift heavy and have some fun. The lifter with the best Halloween outfit will win an extra prize!\nWhether you’re a seasoned lifter or new to deadlifts\, come enjoy the energy\, challenge yourself\, and celebrate with us. Don’t miss out on the fun\, prizes\, and community vibes!\nCostumes encouraged. See you there!
URL:https://methodgym.com/event/california-deadlift-party/
LOCATION:California\, 22599 MacArthur Blvd.\, #136B\, California\, MD\, MD\, 20619\, United States
CATEGORIES:California
ATTACH;FMTTYPE=image/jpeg:https://methodgym.com/wp-content/uploads/2024/10/Method-Gym-deadlift-party-02.jpg
ORGANIZER;CN="Method Gym":MAILTO:memberservices@methodgym.com
END:VEVENT
BEGIN:VEVENT
DTSTART;TZID=America/New_York:20241026T100000
DTEND;TZID=America/New_York:20241026T100000
DTSTAMP:20260420T075345
CREATED:20241016T155858Z
LAST-MODIFIED:20251113T102454Z
UID:10002180-1729936800-1729936800@methodgym.com
SUMMARY:California: Think Pink\, Wear Pink LesMills BODYPUMP Class
DESCRIPTION:Date & Time: Saturday\, October 26th at 10:00 AM\nLocation: Method Gym California (Open House Day)\n\nJoin us for our Think Pink\, Wear Pink LesMills BODYPUMP Class during our Open House! Wear your favorite pink workout gear and get ready for an energizing LesMills BODYPUMP session\, all in support of Breast Cancer Awareness Month. This class is perfect for all fitness levels and is a great way to come together\, lift each other up\, and show our support.\nDon’t miss this special event—let’s lift for a cause! See you there!
URL:https://methodgym.com/event/california-think-pink-wear-pink-lesmills-bodypump-class/
LOCATION:California\, 22599 MacArthur Blvd.\, #136B\, California\, MD\, MD\, 20619\, United States
CATEGORIES:California
ATTACH;FMTTYPE=image/png:https://methodgym.com/wp-content/uploads/2024/10/thinkpink_bodypump_eventb.png
ORGANIZER;CN="Method Gym":MAILTO:memberservices@methodgym.com
END:VEVENT
BEGIN:VEVENT
DTSTART;VALUE=DATE:20241026
DTEND;VALUE=DATE:20241027
DTSTAMP:20260420T075345
CREATED:20241021T151544Z
LAST-MODIFIED:20251113T102502Z
UID:10002193-1729900800-1729987199@methodgym.com
SUMMARY:California: Open House
DESCRIPTION:Saturday\, October 26 | All Day\n\n\nBring your friends and family for a day of fitness\, fun\, and special offers! \nOpen House Details: \n\n\nExclusive membership specials\nFree guest day – invite your friends and family!\nMeet our team and tour the gym\nExperience the variety of classes offered\n\nThink Pink\, Wear Pink LesMills BODYPUMP Class | 10:00 AM\nWear your favorite pink workout gear and get ready for an energizing LesMills BODYPUMP session\, all in support of Breast Cancer Awareness Month.\n\nDeadlift Party | 12:00 PM – 2:00 PM\nShow off your strength and your best costume\, as we lift heavy and have some fun. The lifter with the best Halloween outfit will win an extra prize!
URL:https://methodgym.com/event/california-open-house/
LOCATION:California\, 22599 MacArthur Blvd.\, #136B\, California\, MD\, MD\, 20619\, United States
CATEGORIES:California
ATTACH;FMTTYPE=image/jpeg:https://methodgym.com/wp-content/uploads/2024/10/October-2024-Open-House-Graphics_Event-Web-Page-Graphic.jpg
ORGANIZER;CN="Method Gym":MAILTO:memberservices@methodgym.com
END:VEVENT
BEGIN:VEVENT
DTSTART;TZID=America/New_York:20241009T110000
DTEND;TZID=America/New_York:20241009T110000
DTSTAMP:20260420T075345
CREATED:20241008T180736Z
LAST-MODIFIED:20251113T102509Z
UID:10002170-1728471600-1728471600@methodgym.com
SUMMARY:California: Breast Cancer Awareness Zumba Class
DESCRIPTION:Date & Time: October 9th at 11:00 AM\nLocation: Method Gym California\n\nJoin us for a special Zumba class in support of Breast Cancer Awareness Month! Get ready to move\, dance\, and sweat it out for a great cause. Wear your pink gear and bring your energy as we come together to raise awareness and show support. All fitness levels are welcome—let’s make every move count! \n\nSee you on October 9th at 11 AM! ????
URL:https://methodgym.com/event/california-breast-cancer-awareness-zumba-class/
LOCATION:California\, 22599 MacArthur Blvd.\, #136B\, California\, MD\, MD\, 20619\, United States
CATEGORIES:California
ATTACH;FMTTYPE=image/jpeg:https://methodgym.com/wp-content/uploads/2024/10/MG_SocialGraphic_BCZumba_2024-10-08_V2.jpg
ORGANIZER;CN="Method Gym":MAILTO:memberservices@methodgym.com
END:VEVENT
BEGIN:VEVENT
DTSTART;TZID=America/New_York:20241004T090000
DTEND;TZID=America/New_York:20241004T100000
DTSTAMP:20260420T075345
CREATED:20240916T011612Z
LAST-MODIFIED:20251113T102516Z
UID:10002165-1728032400-1728036000@methodgym.com
SUMMARY:California: LES MILLS BODYCOMBAT 100 Launch
DESCRIPTION:Join us for the epic LES MILLS BODYCOMBAT 100 Launch! Experience the energy\, power\, and motivation of this iconic martial arts-inspired workout as we celebrate a milestone release. Get ready to punch\, kick\, and sweat your way through a heart-pounding session that will leave you feeling stronger and more empowered than ever. Whether you’re a seasoned BODYCOMBAT fan or new to the program\, this launch event is the perfect time to unleash your inner warrior.
URL:https://methodgym.com/event/california-les-mills-bodycombat-100-launch/
LOCATION:California\, 22599 MacArthur Blvd.\, #136B\, California\, MD\, MD\, 20619\, United States
CATEGORIES:California
ATTACH;FMTTYPE=image/jpeg:https://methodgym.com/wp-content/uploads/2024/09/MG_SocialGraphic_BodyCombatLaunch_2024-08-09-1.jpg
ORGANIZER;CN="Method Gym":MAILTO:memberservices@methodgym.com
END:VEVENT
BEGIN:VEVENT
DTSTART;VALUE=DATE:20240928
DTEND;VALUE=DATE:20240929
DTSTAMP:20260420T075345
CREATED:20240926T190142Z
LAST-MODIFIED:20251113T102523Z
UID:10002169-1727481600-1727567999@methodgym.com
SUMMARY:California: Les Mills BODYPUMP Launch and Open House
DESCRIPTION:Les Mills BODYPUMP Launch\nSaturday\, September 28 | 10AM \nJoin us for the ultimate strength training experience as we launch the newest Les Mills BODYPUMP class! Get ready to tone\, sculpt\, and build lean muscle with this high-energy\, barbell workout. \nThis special class is part of our Open House Event happening all day\, so bring a friend and enjoy a full day of fitness\, fun\, and community! \nAll fitness levels are welcome. Don’t miss the chance to lift with us and be part of something powerful!
URL:https://methodgym.com/event/california-les-mills-bodypump-launch-and-open-house/
LOCATION:California\, 22599 MacArthur Blvd.\, #136B\, California\, MD\, MD\, 20619\, United States
CATEGORIES:California
ATTACH;FMTTYPE=image/jpeg:https://methodgym.com/wp-content/uploads/2024/09/MG_SocialGraphic_BodypumpLaunch_2024-09-26_300x300.jpg
ORGANIZER;CN="Method Gym":MAILTO:memberservices@methodgym.com
END:VEVENT
BEGIN:VEVENT
DTSTART;VALUE=DATE:20240801
DTEND;VALUE=DATE:20240901
DTSTAMP:20260420T075345
CREATED:20240731T171924Z
LAST-MODIFIED:20251113T102536Z
UID:10000646-1722470400-1725148799@methodgym.com
SUMMARY:California & Leanordtown: Beat the Heat Contest
DESCRIPTION:Get Fit and Win Big!\nJoin Our Free Contest: \nHow It Works: \n\nAttend 15 classes from August 1 to August 31\, 2024.\nReceive a printout spreadsheet on August 1st to track your classes.\nHave your class instructor sign off on each class you attend.\nComplete all 15 classes to earn a raffle ticket for our grand prize drawing.\n\nGrand Prize: \n\nFree 3-month membership!\nPlus\, a FREE 1-month membership for a non-member of your choice!\n\nImportant Dates: \n\nSheets due on Sunday\, September 1st. Raffle drawing and winners announced on Monday\, September 2 at 11 AM.\n\nDon’t miss out on this exciting opportunity to stay fit and win big! \nReady to Beat the Heat? Sign up at the front desk and pick up your class tracking sheet on August 1st.
URL:https://methodgym.com/event/california-leanordtown-beat-the-heat-contest/
LOCATION:California\, 22599 MacArthur Blvd.\, #136B\, California\, MD\, MD\, 20619\, United States
CATEGORIES:California,Leonardtown
ATTACH;FMTTYPE=image/jpeg:https://methodgym.com/wp-content/uploads/2024/06/MG_SocialGraphic_BeatTheHeat_2024-07-31-1.jpg
ORGANIZER;CN="Method Gym":MAILTO:memberservices@methodgym.com
END:VEVENT
BEGIN:VEVENT
DTSTART;TZID=America/New_York:20240629T120000
DTEND;TZID=America/New_York:20240629T140000
DTSTAMP:20260420T075345
CREATED:20240626T222641Z
LAST-MODIFIED:20251113T102546Z
UID:10000001-1719662400-1719669600@methodgym.com
SUMMARY:California: Pre-4th of July Deadlift Party
DESCRIPTION:Snacks & refreshments. Free for all members and non members. Bringing guests is strongly encouraged. \nWinner in Each Weight Class:\nMale: 120-174\, 175-219\, 220+\nFemale: 100-130\,131-185\,186+
URL:https://methodgym.com/event/pre-4th-of-july-deadlift-party/
LOCATION:California\, 22599 MacArthur Blvd.\, #136B\, California\, MD\, MD\, 20619\, United States
CATEGORIES:California
ATTACH;FMTTYPE=image/jpeg:https://methodgym.com/wp-content/uploads/2024/06/4thofJulyDeadlift_small.jpg
ORGANIZER;CN="Method Gym":MAILTO:memberservices@methodgym.com
END:VEVENT
END:VCALENDAR