BEGIN:VCALENDAR
VERSION:2.0
PRODID:-//Method Gym - ECPv6.15.14//NONSGML v1.0//EN
CALSCALE:GREGORIAN
METHOD:PUBLISH
X-WR-CALNAME:Method Gym
X-ORIGINAL-URL:https://methodgym.com
X-WR-CALDESC:Events for Method Gym
REFRESH-INTERVAL;VALUE=DURATION:PT1H
X-Robots-Tag:noindex
X-PUBLISHED-TTL:PT1H
BEGIN:VTIMEZONE
TZID:America/New_York
BEGIN:DAYLIGHT
TZOFFSETFROM:-0500
TZOFFSETTO:-0400
TZNAME:EDT
DTSTART:20230312T070000
END:DAYLIGHT
BEGIN:STANDARD
TZOFFSETFROM:-0400
TZOFFSETTO:-0500
TZNAME:EST
DTSTART:20231105T060000
END:STANDARD
BEGIN:DAYLIGHT
TZOFFSETFROM:-0500
TZOFFSETTO:-0400
TZNAME:EDT
DTSTART:20240310T070000
END:DAYLIGHT
BEGIN:STANDARD
TZOFFSETFROM:-0400
TZOFFSETTO:-0500
TZNAME:EST
DTSTART:20241103T060000
END:STANDARD
BEGIN:DAYLIGHT
TZOFFSETFROM:-0500
TZOFFSETTO:-0400
TZNAME:EDT
DTSTART:20250309T070000
END:DAYLIGHT
BEGIN:STANDARD
TZOFFSETFROM:-0400
TZOFFSETTO:-0500
TZNAME:EST
DTSTART:20251102T060000
END:STANDARD
END:VTIMEZONE
BEGIN:VEVENT
DTSTART;TZID=America/New_York:20241228T090000
DTEND;TZID=America/New_York:20241228T170000
DTSTAMP:20260420T093324
CREATED:20241224T165257Z
LAST-MODIFIED:20251113T102433Z
UID:10002218-1735376400-1735405200@methodgym.com
SUMMARY:California: December Open House
DESCRIPTION:Saturday\, December 28 | 9am – 5pm\n\n\nBring your friends and family for a day of fitness\, fun\, and special offers! \nOpen House Details: \n\n\nExclusive membership specials\nFree guest day – invite your friends and family!\nMeet our team and tour the gym\nExperience the variety of classes offered
URL:https://methodgym.com/event/california-december-open-house/
LOCATION:California\, 22599 MacArthur Blvd.\, #136B\, California\, MD\, MD\, 20619\, United States
CATEGORIES:California
ATTACH;FMTTYPE=image/jpeg:https://methodgym.com/wp-content/uploads/2024/12/Social-Graphic_Social-Graphic-copy-e1735059240749.jpg
ORGANIZER;CN="Method Gym":MAILTO:memberservices@methodgym.com
END:VEVENT
BEGIN:VEVENT
DTSTART;TZID=America/New_York:20241128T070000
DTEND;TZID=America/New_York:20241128T160000
DTSTAMP:20260420T093324
CREATED:20241122T184231Z
LAST-MODIFIED:20251113T102440Z
UID:10002204-1732777200-1732809600@methodgym.com
SUMMARY:California: Thanksgiving Day Holiday Hours and Workout
DESCRIPTION:Get ready for a day full of fitness\, fun\, and gratitude! \nThanksgiving Day Hours\nThursday\, Nov 28 | 7:00 am – 4:00 pm\nGet in a holiday workout before the festivities! \nFitKids is not available on Thanksgiving Day. \nTHANKSGIVING TURKEY BURNER | 9AM\nBurn calories before the feast with Gretchen’s Turkey Burner class.\nThis high-energy workout is the perfect way to kick off your holiday\, combining cardio and strength to help you feel amazing before you dive into your Thanksgiving meal. \nAll fitness levels welcome! Let’s sweat\, smile\, and celebrate together.
URL:https://methodgym.com/event/california-thanksgiving-day-holiday-hours-and-workout/
LOCATION:California\, 22599 MacArthur Blvd.\, #136B\, California\, MD\, MD\, 20619\, United States
CATEGORIES:California
ATTACH;FMTTYPE=image/jpeg:https://methodgym.com/wp-content/uploads/2024/11/pumpkins.jpeg
ORGANIZER;CN="Method Gym":MAILTO:memberservices@methodgym.com
END:VEVENT
BEGIN:VEVENT
DTSTART;TZID=America/New_York:20241026T120000
DTEND;TZID=America/New_York:20241026T140000
DTSTAMP:20260420T093324
CREATED:20241011T205239Z
LAST-MODIFIED:20251113T102447Z
UID:10002172-1729944000-1729951200@methodgym.com
SUMMARY:California: Deadlift Party
DESCRIPTION:Date & Time: Saturday\, October 26th | 12:00 PM – 2:00 PM\nLocation: Method Gym California\n\nJoin us for a Halloween-themed Deadlift Party during our October Open House! ???????? Show off your strength and your best costume\, as we lift heavy and have some fun. The lifter with the best Halloween outfit will win an extra prize!\nWhether you’re a seasoned lifter or new to deadlifts\, come enjoy the energy\, challenge yourself\, and celebrate with us. Don’t miss out on the fun\, prizes\, and community vibes!\nCostumes encouraged. See you there!
URL:https://methodgym.com/event/california-deadlift-party/
LOCATION:California\, 22599 MacArthur Blvd.\, #136B\, California\, MD\, MD\, 20619\, United States
CATEGORIES:California
ATTACH;FMTTYPE=image/jpeg:https://methodgym.com/wp-content/uploads/2024/10/Method-Gym-deadlift-party-02.jpg
ORGANIZER;CN="Method Gym":MAILTO:memberservices@methodgym.com
END:VEVENT
BEGIN:VEVENT
DTSTART;TZID=America/New_York:20241026T100000
DTEND;TZID=America/New_York:20241026T100000
DTSTAMP:20260420T093324
CREATED:20241016T155858Z
LAST-MODIFIED:20251113T102454Z
UID:10002180-1729936800-1729936800@methodgym.com
SUMMARY:California: Think Pink\, Wear Pink LesMills BODYPUMP Class
DESCRIPTION:Date & Time: Saturday\, October 26th at 10:00 AM\nLocation: Method Gym California (Open House Day)\n\nJoin us for our Think Pink\, Wear Pink LesMills BODYPUMP Class during our Open House! Wear your favorite pink workout gear and get ready for an energizing LesMills BODYPUMP session\, all in support of Breast Cancer Awareness Month. This class is perfect for all fitness levels and is a great way to come together\, lift each other up\, and show our support.\nDon’t miss this special event—let’s lift for a cause! See you there!
URL:https://methodgym.com/event/california-think-pink-wear-pink-lesmills-bodypump-class/
LOCATION:California\, 22599 MacArthur Blvd.\, #136B\, California\, MD\, MD\, 20619\, United States
CATEGORIES:California
ATTACH;FMTTYPE=image/png:https://methodgym.com/wp-content/uploads/2024/10/thinkpink_bodypump_eventb.png
ORGANIZER;CN="Method Gym":MAILTO:memberservices@methodgym.com
END:VEVENT
BEGIN:VEVENT
DTSTART;VALUE=DATE:20241026
DTEND;VALUE=DATE:20241027
DTSTAMP:20260420T093324
CREATED:20241021T151544Z
LAST-MODIFIED:20251113T102502Z
UID:10002193-1729900800-1729987199@methodgym.com
SUMMARY:California: Open House
DESCRIPTION:Saturday\, October 26 | All Day\n\n\nBring your friends and family for a day of fitness\, fun\, and special offers! \nOpen House Details: \n\n\nExclusive membership specials\nFree guest day – invite your friends and family!\nMeet our team and tour the gym\nExperience the variety of classes offered\n\nThink Pink\, Wear Pink LesMills BODYPUMP Class | 10:00 AM\nWear your favorite pink workout gear and get ready for an energizing LesMills BODYPUMP session\, all in support of Breast Cancer Awareness Month.\n\nDeadlift Party | 12:00 PM – 2:00 PM\nShow off your strength and your best costume\, as we lift heavy and have some fun. The lifter with the best Halloween outfit will win an extra prize!
URL:https://methodgym.com/event/california-open-house/
LOCATION:California\, 22599 MacArthur Blvd.\, #136B\, California\, MD\, MD\, 20619\, United States
CATEGORIES:California
ATTACH;FMTTYPE=image/jpeg:https://methodgym.com/wp-content/uploads/2024/10/October-2024-Open-House-Graphics_Event-Web-Page-Graphic.jpg
ORGANIZER;CN="Method Gym":MAILTO:memberservices@methodgym.com
END:VEVENT
BEGIN:VEVENT
DTSTART;TZID=America/New_York:20241009T110000
DTEND;TZID=America/New_York:20241009T110000
DTSTAMP:20260420T093324
CREATED:20241008T180736Z
LAST-MODIFIED:20251113T102509Z
UID:10002170-1728471600-1728471600@methodgym.com
SUMMARY:California: Breast Cancer Awareness Zumba Class
DESCRIPTION:Date & Time: October 9th at 11:00 AM\nLocation: Method Gym California\n\nJoin us for a special Zumba class in support of Breast Cancer Awareness Month! Get ready to move\, dance\, and sweat it out for a great cause. Wear your pink gear and bring your energy as we come together to raise awareness and show support. All fitness levels are welcome—let’s make every move count! \n\nSee you on October 9th at 11 AM! ????
URL:https://methodgym.com/event/california-breast-cancer-awareness-zumba-class/
LOCATION:California\, 22599 MacArthur Blvd.\, #136B\, California\, MD\, MD\, 20619\, United States
CATEGORIES:California
ATTACH;FMTTYPE=image/jpeg:https://methodgym.com/wp-content/uploads/2024/10/MG_SocialGraphic_BCZumba_2024-10-08_V2.jpg
ORGANIZER;CN="Method Gym":MAILTO:memberservices@methodgym.com
END:VEVENT
BEGIN:VEVENT
DTSTART;TZID=America/New_York:20241004T090000
DTEND;TZID=America/New_York:20241004T100000
DTSTAMP:20260420T093324
CREATED:20240916T011612Z
LAST-MODIFIED:20251113T102516Z
UID:10002165-1728032400-1728036000@methodgym.com
SUMMARY:California: LES MILLS BODYCOMBAT 100 Launch
DESCRIPTION:Join us for the epic LES MILLS BODYCOMBAT 100 Launch! Experience the energy\, power\, and motivation of this iconic martial arts-inspired workout as we celebrate a milestone release. Get ready to punch\, kick\, and sweat your way through a heart-pounding session that will leave you feeling stronger and more empowered than ever. Whether you’re a seasoned BODYCOMBAT fan or new to the program\, this launch event is the perfect time to unleash your inner warrior.
URL:https://methodgym.com/event/california-les-mills-bodycombat-100-launch/
LOCATION:California\, 22599 MacArthur Blvd.\, #136B\, California\, MD\, MD\, 20619\, United States
CATEGORIES:California
ATTACH;FMTTYPE=image/jpeg:https://methodgym.com/wp-content/uploads/2024/09/MG_SocialGraphic_BodyCombatLaunch_2024-08-09-1.jpg
ORGANIZER;CN="Method Gym":MAILTO:memberservices@methodgym.com
END:VEVENT
BEGIN:VEVENT
DTSTART;VALUE=DATE:20240928
DTEND;VALUE=DATE:20240929
DTSTAMP:20260420T093324
CREATED:20240926T190142Z
LAST-MODIFIED:20251113T102523Z
UID:10002169-1727481600-1727567999@methodgym.com
SUMMARY:California: Les Mills BODYPUMP Launch and Open House
DESCRIPTION:Les Mills BODYPUMP Launch\nSaturday\, September 28 | 10AM \nJoin us for the ultimate strength training experience as we launch the newest Les Mills BODYPUMP class! Get ready to tone\, sculpt\, and build lean muscle with this high-energy\, barbell workout. \nThis special class is part of our Open House Event happening all day\, so bring a friend and enjoy a full day of fitness\, fun\, and community! \nAll fitness levels are welcome. Don’t miss the chance to lift with us and be part of something powerful!
URL:https://methodgym.com/event/california-les-mills-bodypump-launch-and-open-house/
LOCATION:California\, 22599 MacArthur Blvd.\, #136B\, California\, MD\, MD\, 20619\, United States
CATEGORIES:California
ATTACH;FMTTYPE=image/jpeg:https://methodgym.com/wp-content/uploads/2024/09/MG_SocialGraphic_BodypumpLaunch_2024-09-26_300x300.jpg
ORGANIZER;CN="Method Gym":MAILTO:memberservices@methodgym.com
END:VEVENT
BEGIN:VEVENT
DTSTART;VALUE=DATE:20240801
DTEND;VALUE=DATE:20240901
DTSTAMP:20260420T093324
CREATED:20240731T171924Z
LAST-MODIFIED:20251113T102536Z
UID:10000646-1722470400-1725148799@methodgym.com
SUMMARY:California & Leanordtown: Beat the Heat Contest
DESCRIPTION:Get Fit and Win Big!\nJoin Our Free Contest: \nHow It Works: \n\nAttend 15 classes from August 1 to August 31\, 2024.\nReceive a printout spreadsheet on August 1st to track your classes.\nHave your class instructor sign off on each class you attend.\nComplete all 15 classes to earn a raffle ticket for our grand prize drawing.\n\nGrand Prize: \n\nFree 3-month membership!\nPlus\, a FREE 1-month membership for a non-member of your choice!\n\nImportant Dates: \n\nSheets due on Sunday\, September 1st. Raffle drawing and winners announced on Monday\, September 2 at 11 AM.\n\nDon’t miss out on this exciting opportunity to stay fit and win big! \nReady to Beat the Heat? Sign up at the front desk and pick up your class tracking sheet on August 1st.
URL:https://methodgym.com/event/california-leanordtown-beat-the-heat-contest/
LOCATION:California\, 22599 MacArthur Blvd.\, #136B\, California\, MD\, MD\, 20619\, United States
CATEGORIES:California,Leonardtown
ATTACH;FMTTYPE=image/jpeg:https://methodgym.com/wp-content/uploads/2024/06/MG_SocialGraphic_BeatTheHeat_2024-07-31-1.jpg
ORGANIZER;CN="Method Gym":MAILTO:memberservices@methodgym.com
END:VEVENT
BEGIN:VEVENT
DTSTART;TZID=America/New_York:20240629T120000
DTEND;TZID=America/New_York:20240629T140000
DTSTAMP:20260420T093324
CREATED:20240626T222641Z
LAST-MODIFIED:20251113T102546Z
UID:10000001-1719662400-1719669600@methodgym.com
SUMMARY:California: Pre-4th of July Deadlift Party
DESCRIPTION:Snacks & refreshments. Free for all members and non members. Bringing guests is strongly encouraged. \nWinner in Each Weight Class:\nMale: 120-174\, 175-219\, 220+\nFemale: 100-130\,131-185\,186+
URL:https://methodgym.com/event/pre-4th-of-july-deadlift-party/
LOCATION:California\, 22599 MacArthur Blvd.\, #136B\, California\, MD\, MD\, 20619\, United States
CATEGORIES:California
ATTACH;FMTTYPE=image/jpeg:https://methodgym.com/wp-content/uploads/2024/06/4thofJulyDeadlift_small.jpg
ORGANIZER;CN="Method Gym":MAILTO:memberservices@methodgym.com
END:VEVENT
END:VCALENDAR